BEGIN:VCALENDAR
VERSION:2.0
PRODID:https://www.zwickau.de/veranstaltungen/
X-PUBLISHED-TTL:P1W
BEGIN:VEVENT
UID:69e8c8405a0b9
DTSTART:20260510T140000
SEQUENCE:0
TRANSP:OPAQUE
SUMMARY:Fühl mal!
DESCRIPTION:<p>Plüsch\, Stoff und Fantasie: In den Arbeiten von Theresa Ro
 the werden vertraute Materialien zu überraschenden Figuren und Stimmungen
 . Nach einer kurzen Führung durch die Ausstellung beschäftigen wir uns g
 emeinsam mit dem Thema Gefühle und Material. Anschließend gestalten wir 
 unsere eigenen kleinen textilen Traumwelten als Collagen. Bunte Kompositio
 nen aus Stoffen\, Fell und Farben bringen Fantasie und Farbe ins Kinderzim
 mer.</p>\n<p>Empfohlen ab 4 Jahren (mit Begleitung)</p>
DTSTAMP:20260422T150816Z
END:VEVENT
END:VCALENDAR