BEGIN:VCALENDAR
VERSION:2.0
PRODID:https://www.zwickau.de/veranstaltungen/
X-PUBLISHED-TTL:P1W
BEGIN:VEVENT
UID:69e8c6c30ac37
DTSTART:20260509T150000
SEQUENCE:0
TRANSP:OPAQUE
DTEND:20260509T170000
SUMMARY:Opening mit Familienprogramm
DESCRIPTION:<p>Die ambivalenten Kreaturen der in Leipzig lebenden und bevor
 zugt mit Fellstoffen arbeitenden Künstlerin verkörpern nicht nur ganz un
 terschiedliche Emotionen\, sondern auch Fragen zu Körperlichkeit\, Zugeh
 örigkeit und Identität. Mal mit menschlichen\, mal mit tierischen Zügen
  ausgestattet\, fungieren Rothes dreidimensionale\, zumeist aus dem widers
 prüchlichen Unbewussten\, aus Träumen und Fantasien gespeiste Wesen als 
 Projektionsflächen\, in denen sich nicht zuletzt die Betrachterinnen und 
 Betrachter selbst wiederfinden und in deren Spannungsfeld sie eintauchen k
 önnen.</p>\n<p>Begleitend öffnet der KreativRAUM mit einem Familienprog
 ramm: Hier kann die Ausstellung spielerisch entdeckt und selbst kreativ ge
 staltet werden.</p>
DTSTAMP:20260422T150155Z
END:VEVENT
END:VCALENDAR